BEGIN:VCALENDAR
VERSION:2.0
BEGIN:VEVENT
URL:
DTSTART:20170707T000000Z
DTEND:
SUMMARY:Great American Insurance Group Team Page for Over The  Edge
DESCRIPTION:
LOCATION: The Westin Hotel Cincinnati Ohio 45202
END:VEVENT
END:VCALENDAR