BEGIN:VCALENDAR
VERSION:2.0
BEGIN:VEVENT
URL:
DTSTART:20200101T000000Z
DTEND:
SUMMARY:Great American Insurance Group Empowers Resilience In Our Youth!
DESCRIPTION:
LOCATION: 2400 Reading Road Cincinnati Ohio 45202
END:VEVENT
END:VCALENDAR